BEGIN:VCALENDAR
VERSION:2.0
PRODID:-//Oncle Produccions - ECPv6.9.0//NONSGML v1.0//EN
CALSCALE:GREGORIAN
METHOD:PUBLISH
X-ORIGINAL-URL:https://oncleproduccions.com
X-WR-CALDESC:Eventos para Oncle Produccions
REFRESH-INTERVAL;VALUE=DURATION:PT1H
X-Robots-Tag:noindex
X-PUBLISHED-TTL:PT1H
BEGIN:VTIMEZONE
TZID:Europe/Madrid
BEGIN:DAYLIGHT
TZOFFSETFROM:+0100
TZOFFSETTO:+0200
TZNAME:CEST
DTSTART:20250330T010000
END:DAYLIGHT
BEGIN:STANDARD
TZOFFSETFROM:+0200
TZOFFSETTO:+0100
TZNAME:CET
DTSTART:20251026T010000
END:STANDARD
END:VTIMEZONE
BEGIN:VEVENT
DTSTART;TZID=Europe/Madrid:20250523T220000
DTEND;TZID=Europe/Madrid:20250523T233000
DTSTAMP:20260419T210542
CREATED:20250507T090536Z
LAST-MODIFIED:20250522T112837Z
UID:615-1748037600-1748043000@oncleproduccions.com
SUMMARY:PACTO ENTRE CABALLEROS tributo a SABINA
DESCRIPTION:Os presento Pacto entre caballeros\, es una banda tributo a Sabina\, con seis músicos en escena liderados por Julián de Eusebio\, que desde el 2014 desgrana con soltura y respeto todo un repertorio de los mejores y más conocidos temas de este popular cantautor. El resultado es un buen homenaje\, que hace revivir en directo\, tanto en grandes festivales como en salas o teatros\, la magia de Sabina… \nEs el nombre escogido por esta banda\, es para rendir un tributo musical al gran Sabina. En directo\, nos sorprenderán positivamente incluso a los más fieles seguidores\, pues se nota en escena una cierta pasión por el «Maestro». \nHan tejido\, a fin de hacernos revivir mediante un completo recorrido musical\, un repertorio donde destacan los temas más emblemáticos de la larga trayectoria del maestro Sabina: \nYo me bajo en atocha\, 19 días quinientas noches\, Nos sobran los motivos\, \nNo puedo enamorarme de ti\, Ruido\, etc.
URL:https://oncleproduccions.com/concierto/pacto-entre-caballeros/
LOCATION:SALA ACME\, Calle Portugal\, 29-31\,\, CERDANYOLA DEL VALLÈS
ATTACH;FMTTYPE=image/jpeg:https://oncleproduccions.com/wp-content/uploads/2025/05/PACTO-petit.jpg
END:VEVENT
END:VCALENDAR